BEGIN:VCALENDAR
VERSION:2.0
PRODID:SoDel
X-WR-CALNAME:Record Store Pop Up
BEGIN:VEVENT
UID:350642026-04-19
DTSTART:20260419T200000Z
SEQUENCE:0
TRANSP:OPAQUE
DTEND:20260419T220000Z
LOCATION:320 Rehoboth Avenue\nRehoboth Beach Delaware 19971
X-APPLE-STRUCTURED-LOCATION;VALUE=URI;X-ADDRESS=320 Rehoboth Avenue\nRehobo
 th Beach Delaware 19971;X-APPLE-RADIUS=49;X-TITLE=320 Rehoboth Avenue:geo:
 38.715171,-75.087073
GEO:38.715171;-75.087073
SUMMARY:Record Store Pop Up
CLASS:PUBLIC
DESCRIPTION:Spin something off-centered with us to close out Record Store D
 ay\nWeekend! On Sunday\, April 19 from 4 - 6 p.m.\, we’re welcoming The\
 nVintage Underground for a Record Store Pop Up at the Dogfish INN. Dig\nth
 rough a curated mix of vinyl\, music gems\, and all-around good stuff\nwhi
 le sipping on your favorite Dogfish brew. Vintage Underground\nrecords & g
 oodness available with proceeds going to Frantic Music\nProject\, so every
  record you snag helps keep the music going. Come\nhang\, crate dig\, and 
 keep the good tunes going.\n\nMake a day of it and stay with us at the Dog
 fish INN for a cozy\,\nmusic-filled getaway. Book your room here:\nhttps:/
 /www.dogfish.com/visit/dogfish-inn\n
X-ALT-DESC;FMTTYPE=text/html:<p>Spin something off-centered with us to clos
 e out Record Store Day Weekend! On Sunday\, April 19 from 4 - 6 p.m.\, we&
 rsquo\;re welcoming The Vintage Underground for a Record Store Pop Up at t
 he Dogfish INN. Dig through a curated mix of vinyl\, music gems\, and all-
 around good stuff while sipping on your favorite Dogfish brew. Vintage Und
 erground records &amp\; goodness available with proceeds going to Frantic 
 Music Project\, so every record you snag helps keep the music going. Come 
 hang\, crate dig\, and keep the good tunes going.<br />\n<br />\nMake a da
 y of it and stay with us at the Dogfish INN for a cozy\, music-filled geta
 way. Book your room here: <a href=\"https://www.dogfish.com/visit/dogfish-
 inn\" target=\"_blank\">https://www.dogfish.com/visit/dogfish-inn</a></p>
DTSTAMP:20260419T142049Z
END:VEVENT
END:VCALENDAR