BEGIN:VCALENDAR
VERSION:2.0
PRODID:SoDel
X-WR-CALNAME:Reflections Works by Laura Erickson
BEGIN:VEVENT
UID:68532021-09-26
DTSTART;VALUE=DATE:20210926
SEQUENCE:0
TRANSP:OPAQUE
DTEND;VALUE=DATE:20210927
LOCATION:12 Dodds Lane\nRehoboth Beach DE 19971
X-APPLE-STRUCTURED-LOCATION;VALUE=URI;X-ADDRESS=12 Dodds Lane\nRehoboth Bea
 ch DE 19971;X-APPLE-RADIUS=49;X-TITLE=12 Dodds Lane:geo:38.725028,-75.0858
 86
GEO:38.725028;-75.085886
SUMMARY:Reflections Works by Laura Erickson
CLASS:PUBLIC
DESCRIPTION:Laura Erickson is a full time artist living and working in Reho
 both\nBeach\, Delaware. She works out of my warehouse studio\, where she\n
 creates atmospheric\, textured landscapes. Her acrylic paintings embody\nt
 he peaceful\, tranquil feeling of the coast using muted color and\nmovemen
 t. It is important to Laura the her work is authentically\nunique and evok
 es emotion from the viewer. Creating beauty through\nartistic expression f
 rees her spirit and nourishes her soul.  Venue:\nRehoboth Art League.
X-ALT-DESC;FMTTYPE=text/html:Laura Erickson is a full time artist living an
 d working in Rehoboth Beach\, Delaware. She works out of my warehouse stud
 io\, where she creates atmospheric\, textured landscapes. Her acrylic pain
 tings embody the peaceful\, tranquil feeling of the coast using muted colo
 r and movement. It is important to Laura the her work is authentically uni
 que and evokes emotion from the viewer. Creating beauty through artistic e
 xpression frees her spirit and nourishes her soul.  Venue: Rehoboth Art L
 eague.
X-MICROSOFT-CDO-ALLDAYEVENT:TRUE
DTSTAMP:20260421T204238Z
END:VEVENT
END:VCALENDAR