BEGIN:VCALENDAR
VERSION:2.0
PRODID:SoDel
X-WR-CALNAME:Spring Concert - Celebrate America 250
BEGIN:VEVENT
UID:351532026-04-20
DTSTART;VALUE=DATE:20260420
SEQUENCE:0
TRANSP:OPAQUE
DTEND;VALUE=DATE:20260421
LOCATION:1019 North Walnut Street\nMilford Delaware 19963
X-APPLE-STRUCTURED-LOCATION;VALUE=URI;X-ADDRESS=1019 North Walnut Street\nM
 ilford Delaware 19963;X-APPLE-RADIUS=49;X-TITLE=1019 North Walnut Street:g
 eo:38.929626,-75.427095
GEO:38.929626;-75.427095
SUMMARY:Spring Concert - Celebrate America 250
CLASS:PUBLIC
DESCRIPTION:Join the Milford Community Band for their Spring Concert\, Cele
 brate\nAmerica 250! Enjoy an inspiring afternoon of patriotic favorites an
 d\nAmerican classics as we honor our nation’s 250th anniversary with\nmu
 sic that celebrates community\, history\, and hometown pride. Bring\nyour 
 family\, invite a friend\, and be part of this special milestone\nperforma
 nce. Venue: Milford High School. Presenter: Milford Community\nBands.\n
X-ALT-DESC;FMTTYPE=text/html:<p>Join the Milford Community Band for their S
 pring Concert\, Celebrate America 250! Enjoy an inspiring afternoon of pat
 riotic favorites and American classics as we honor our nation&rsquo\;s 250
 th anniversary with music that celebrates community\, history\, and hometo
 wn pride. Bring your family\, invite a friend\, and be part of this specia
 l milestone performance. Venue: Milford High School. Presenter: Milford Co
 mmunity Bands.</p>
X-MICROSOFT-CDO-ALLDAYEVENT:TRUE
DTSTAMP:20260421T041713Z
END:VEVENT
END:VCALENDAR